BEGIN:VCALENDAR
VERSION:2.0
CALSCALE:GREGORIAN
PRODID:adamgibbons/ics
METHOD:PUBLISH
X-PUBLISHED-TTL:PT1H
BEGIN:VEVENT
UID:1646@zgz.convoca.la
SUMMARY:Soñamos Palestina. Jornada Cuentacuentos en apoyo a la población pa
	lestina
DTSTAMP:20260425T230029Z
DTSTART:20260508T153000Z
DTEND:20260508T173000Z
DESCRIPTION:"Soñamos Palestina" es\, a la vez\, un deseo y un acto de rebel
	día. En estos\ntiempos de oscuridad\, soñar no es una evasión\, sino una f
	orma de resistencia.\nSoñamos con una Palestina libre\, soñamos con el reg
	reso de las familias a sus\nhogares y soñamos con el fin de un genocidio\,
	 de la ocupación y de un silencio\nque nos hace cómplices.\n\nEsta jornada
	 de cuentacuentos dirigida a todos los públicos y\, en especial\, a la\nin
	fancia\, es nuestra manera de habitar ese sueño de forma colectiva\, utili
	zando\nla palabra para reivindicar la identidad\, la memoria y la humanida
	d de un pueblo\nque se niega a ser borrado.\n\nLa actividad\, organizada p
	or La Pantera Rossa en colaboración con Marea\nPalestina y con la particip
	ación de la cuentacuentos aragonesa Maricuela\n[https://www.maricuela.com/
	]\, acompaña a la exposición colectiva "Los desastres\nde Gaza"\, que podé
	is visitar en nuestro centro social librería. Al igual que\nGoya denunció 
	la barbarie en su tiempo\, los artistas que participan en esta\nmuestra ut
	ilizan su arte para visibilizar el horror que hoy sufre la Franja de\nGaza
	. Pero este proyecto tiene un objetivo que va más allá de la denuncia: bus
	ca\nla acción directa.\n\nAl finalizar el cuentacuentos tendrá lugar un ta
	ller infantil para que\nparticipante pueda confeccionar su propia obra de 
	arte en apoyo a Palestina.\n\nTodo lo recaudado a través de esta iniciativ
	a y de las obras expuestas se\ndestinará íntegramente a la UNRWA (Agencia 
	de Naciones Unidas para la población\nrefugiada de Palestina). En este mom
	ento de asedio absoluto\, vuestro apoyo\neconómico es vital para que la ay
	uda humanitaria —alimentos\, refugio y\nmedicinas— pueda seguir intentando
	 salvar vidas frente al genocidio.\n\n¿Cómo podéis sumaros a este sueño de
	 justicia?\n\n * Adquiriendo las obras de la exposición: Un gesto artístic
	o que se transforma\n   en ayuda directa.\n\n * Realizando portaciones vol
	untarias: Encontraréis una hucha en la sala y toda\n   la información nece
	saria para colaborar con la labor de emergencia de la\n   UNRWA.\n   \n   
	https://lapanterarossa.net/los-desastres-de-gaza-exposicion-colectiva\n   
	[https://lapanterarossa.net/los-desastres-de-gaza-exposicion-colectiva]\n\
	nGracias por vuestra compañía\, por prestar vuestros oídos a estas histori
	as y por\ndemostrar que\, frente a la destrucción\, nuestra solidaridad si
	gue en pie.\n\nEmpecemos\, pues\, a narrar ese futuro que hoy soñamos para
	 Palestina
URL:https://zgz.convoca.la/event/sonamos-palestina-jornada-cuentacuentos-en
	-apoyo-a-la-poblacion-palestina
LOCATION:La Pantera Rossa - Calle San Vicente de Paúl 28\, Zaragoza
STATUS:CONFIRMED
CATEGORIES:
X-ALT-DESC;FMTTYPE=text/html:<p><strong>"Soñamos Palestina" es, a la vez, u
	n deseo y un acto de rebeldía</strong>. En estos tiempos de oscuridad, soñ
	ar no es una evasión, sino una forma de resistencia. Soñamos con una Pales
	tina libre, soñamos con el regreso de las familias a sus hogares y soñamos
	 con el fin de un genocidio, de la ocupación y de un silencio que nos hace
	 cómplices.</p><p>Esta jornada de cuentacuentos dirigida a todos los públi
	cos y, en especial, a la infancia, es nuestra manera de habitar ese sueño 
	de forma colectiva, utilizando la palabra para reivindicar la identidad, l
	a memoria y la humanidad de un pueblo que se niega a ser borrado.</p><p>La
	 actividad, <strong>organizada por La Pantera Rossa en colaboración con Ma
	rea Palestina y con la participación de la cuentacuentos aragonesa </stron
	g><a href="https://www.maricuela.com/" target="_blank"><strong>Maricuela</
	strong></a><strong>, </strong>acompaña a la exposición colectiva <strong>"
	Los desastres de Gaza"</strong>, que podéis visitar en nuestro centro soci
	al librería. Al igual que Goya denunció la barbarie en su tiempo, los arti
	stas que participan en esta muestra utilizan su arte para visibilizar el h
	orror que hoy sufre la Franja de Gaza. Pero este proyecto tiene un objetiv
	o que va más allá de la denuncia: busca la <strong>acción directa</strong>
	.</p><p>Al finalizar el cuentacuentos tendrá lugar un taller infantil para
	 que participante pueda confeccionar su propia obra de arte en apoyo a Pal
	estina.</p><p>Todo lo recaudado a través de esta iniciativa y de las obras
	 expuestas se destinará íntegramente a la <strong>UNRWA</strong> (Agencia 
	de Naciones Unidas para la población refugiada de Palestina). En este mome
	nto de asedio absoluto, vuestro apoyo económico es vital para que la ayuda
	 humanitaria —alimentos, refugio y medicinas— pueda seguir intentando salv
	ar vidas frente al genocidio.</p><p><strong>¿Cómo podéis sumaros a este su
	eño de justicia?</strong></p><ul><li><p><strong>Adquiriendo las obras de l
	a exposición:</strong> Un gesto artístico que se transforma en ayuda direc
	ta.</p></li><li><p><strong>Realizando portaciones voluntarias:</strong> En
	contraréis una hucha en la sala y toda la información necesaria para colab
	orar con la labor de emergencia de la UNRWA.</p><p><a href="https://lapant
	erarossa.net/los-desastres-de-gaza-exposicion-colectiva" target="_blank">h
	ttps://lapanterarossa.net/los-desastres-de-gaza-exposicion-colectiva</a></
	p></li></ul><p>Gracias por vuestra compañía, por prestar vuestros oídos a 
	estas historias y por demostrar que, frente a la destrucción, nuestra soli
	daridad sigue en pie.</p><p><strong>Empecemos, pues, a narrar ese futuro q
	ue hoy soñamos para Palestina</strong></p>
BEGIN:VALARM
ACTION:DISPLAY
DESCRIPTION:Soñamos Palestina. Jornada Cuentacuentos en apoyo a la població
	n palestina
TRIGGER:-PT1H
END:VALARM
END:VEVENT
END:VCALENDAR
