BEGIN:VCALENDAR
VERSION:2.0
CALSCALE:GREGORIAN
PRODID:adamgibbons/ics
METHOD:PUBLISH
X-PUBLISHED-TTL:PT1H
BEGIN:VEVENT
UID:1644@zgz.convoca.la
SUMMARY:Escuela Republicana con RISArchers. El show de los monólogos cientí
	ficos
DTSTAMP:20260422T150014Z
DTSTART:20260427T170000Z
DTEND:20260427T183000Z
DESCRIPTION:El próximo lunes\, día 27 de abril de 2026\, a las 19 h\, en la
	 Escuela\nRepublicana\, hablaremos de Ciencia en clave de humor pero con r
	igor: RISArchers.\nEl show de los monólogos científicos. \n\nEl grupo RISA
	rchers [https://risarchers.unizar.es/]\, formado por investigadores\nmonol
	oguistas de la Universidad de Zaragoza\, te acerca la ciencia\, el\nconoci
	miento y años de investigación en un formato cercano\, directo\, atractivo
	\,\nbreve y riguroso como es el monólogo.\n\nEste grupo cuenta con alreded
	or de 50 integrantes\, y ha actuado ante cerca de\n15.000 personas desde s
	u constitución en 2015. En este tiempo se ha convertido\nen un elemento di
	namizador entre sus homólogos y sus representaciones actúan\ncomo cataliza
	dor\, animando a otros científicos a dar un paso más en el ámbito de\ndivu
	lgación científica.\n\nLa Escuela Republicana\, organizada por El Ateneo R
	epublicano de Zaragoza ARZ\n[http://www.ateneorepublicanodezaragoza.org]\,
	 se realiza todos los lunes (con\nexcepción del primero de cada mes) en La
	 Pantera Rossa de 19:00 h. a 21:00 h. y\ncuenta con la participación de do
	centes universitarios\, de enseñanzas medias y\nactivistas sociales. Se cu
	enta con una gran diversidad de temas (Historia\,\nFilosofía\, Ciencia\, E
	cología\, Derecho\, Participación ciudadana\, Matemáticas\,\nSociología\, 
	Economía\, Psicología...) La participación en la Escuela es gratuita.
URL:https://zgz.convoca.la/event/escuela-republicana-con-risarchers-el-show
	-de-los-monologos-cientificos
LOCATION:La Pantera Rossa - Calle San Vicente de Paúl 28\, Zaragoza
STATUS:CONFIRMED
CATEGORIES:
X-ALT-DESC;FMTTYPE=text/html:<p>El próximo <strong>lunes, día 27 de abril d
	e 2026, a las 19 h, </strong>en la <strong><em>Escuela Republicana</em></s
	trong>,<strong> </strong>hablaremos de Ciencia en clave de humor pero con 
	rigor: <strong>RISArchers. El show de los monólogos científicos.</strong><
	em>&nbsp;</em></p><p><a target="_blank" href="https://risarchers.unizar.es
	/"><em>El grupo RISArchers</em></a><em>, formado por investigadores monolo
	guistas de la Universidad de Zaragoza, te acerca la ciencia, el conocimien
	to y años de investigación en un formato cercano, directo, atractivo, brev
	e y riguroso como es el monólogo.</em></p><p><em>Este grupo cuenta con alr
	ededor de 50 integrantes, y ha actuado ante cerca de 15.000 personas desde
	 su constitución en 2015. En este tiempo se ha convertido en un elemento d
	inamizador entre sus homólogos y sus representaciones actúan como cataliza
	dor, animando a otros científicos a dar un paso más en el ámbito de divulg
	ación científica.</em></p><p>La <strong><em>Escuela Republicana</em></stro
	ng><em>, </em>organizada por <a target="_blank" href="http://www.ateneorep
	ublicanodezaragoza.org"><strong>El Ateneo Republicano de Zaragoza ARZ</str
	ong></a>, se realiza todos los lunes (con excepción del primero de cada me
	s) en La Pantera Rossa de 19:00 h. a 21:00 h. y cuenta con la participació
	n de docentes universitarios, de enseñanzas medias y activistas sociales. 
	Se cuenta con una gran diversidad de temas (Historia, Filosofía, Ciencia, 
	Ecología, Derecho, Participación ciudadana, Matemáticas, Sociología, Econo
	mía, Psicología...) La participación en la Escuela es gratuita.</p>
BEGIN:VALARM
ACTION:DISPLAY
DESCRIPTION:Escuela Republicana con RISArchers. El show de los monólogos ci
	entíficos
TRIGGER:-PT1H
END:VALARM
END:VEVENT
END:VCALENDAR
