BEGIN:VCALENDAR
VERSION:2.0
CALSCALE:GREGORIAN
PRODID:adamgibbons/ics
METHOD:PUBLISH
X-PUBLISHED-TTL:PT1H
BEGIN:VEVENT
UID:1641@zgz.convoca.la
SUMMARY:Ecologistas en Acción presenta 'Paca Blanco\, la Brava'
DTSTAMP:20260420T155303Z
DTSTART:20260428T170000Z
DTEND:20260428T190000Z
DESCRIPTION:Paca Blanco es un referente unánime dentro de las luchas que se
	 han producido\ndurante las últimas décadas en defensa del medio ambiente 
	y de la dignidad de\nlas personas que\, como ella\, no han tenido una vida
	 fácil. Esta es la historia\nde esas personas\, que en colectivo construye
	n alternativas a un mundo demasiadas\nveces gris e inhóspito.\n\nAsuntos h
	oy centrales en la agenda de los movimientos sociales fueron la materia\np
	rima donde Paca se fue forjando desde muy joven. Su lucha contra las centr
	ales\nnucleares\, contra las falacias  de las grandes corporaciones energé
	ticas\, en\ndefensa de una vivienda digna\, en contra del desastre medioam
	biental que\nrepresenta Marina Isla Valdecañas\, sus reivindicaciones femi
	nistas\, su\nmilitancia política y su activismo en defensa del territorio 
	y la naturaleza la\nhan llevado a enfrentarse\, en no pocas ocasiones con 
	graves consecuencias\npersonales\,  con los poderes fácticos.\n\nEn el cas
	o de Paca\, estamos ante una vida secuestrada por el Patronato de\nProtecc
	ión a la Mujer que hoy vuelve a salir a la luz en los medios de\ncomunicac
	ión\, pero también llena por aquellas cosas que verdaderamente importan:\n
	sus compañeras y compañeros de viaje\, su pasión por el baile\, sus hijos\
	, sus\namigas y amigos\, su familia. De niña le apodaron ‘la brava’  por s
	u forma de\nenfrentase a la vida\, por su empeño en pelear contra las inju
	sticias\nmanifiestas. Con 76 años aún tiene mucho que hacer  para que el m
	undo sea un\npoco más habitable.\n\nPaca Blanco\, la Brava es una crónica 
	de una parte de la historia de este rincón\ndel mundo como nunca se ha con
	tado. La historia de las personas que defienden el\nterritorio\, pero no p
	orque sea suyo\, sino porque es nuestro\, de todos los\nhabitantes del pla
	neta.\n\nQuienes lean este libro se van a reír a carcajadas\, van a llorar
	 en algún\nmomento\, van a aprender muchas cosas sobre nuestra historia má
	s reciente\, y lo\nvan a hacer de la mano de una mujer espectacular. Una m
	ujer que ha hecho de la\nalegría un ejercicio de resistencia feroz.\n\nLa 
	historia de Paca Blanco\, la Brava\, termina como empezó. Un desahucio\, u
	na\ncaravana y una lucha inacabable.\n\nPresentación del libro "Paca Blanc
	o\, la brava" (Libros en Acción) y charla\n"Alargar las nucleares\, no gra
	cias"\, a cargo de la autora Paca Blanco\, Marina\nGros de Ecologistas en 
	Acción-Huesca y Nacho Escartín de Ecologistas en\nAcción-Zaragoza\, el mar
	tes 28 de abril\, a partir de las 19.00 horas en La\nPantera Rossa de Zara
	goza (San Vicente de Paúl 28\, local).
URL:https://zgz.convoca.la/event/ecologistas-en-accion-presenta-paca-blanco
	-la-brava
LOCATION:La Pantera Rossa - Calle San Vicente de Paúl 28\, Zaragoza
STATUS:CONFIRMED
CATEGORIES:
X-ALT-DESC;FMTTYPE=text/html:<p>Paca Blanco es un referente unánime dentro 
	de las luchas que se han producido durante las últimas décadas en defensa 
	del medio ambiente y de la dignidad de las personas que, como ella, no han
	 tenido una vida fácil. Esta es la historia de esas personas, que en colec
	tivo construyen alternativas a un mundo demasiadas veces gris e inhóspito.
	</p><p>Asuntos hoy centrales en la agenda de los movimientos sociales fuer
	on la materia prima donde Paca se fue forjando desde muy joven. Su lucha c
	ontra las centrales nucleares, contra las falacias&nbsp; de las grandes co
	rporaciones energéticas, en defensa de una vivienda digna, en contra del d
	esastre medioambiental que representa Marina Isla Valdecañas, sus reivindi
	caciones feministas, su militancia política y su activismo en defensa del 
	territorio y la naturaleza la han llevado a enfrentarse, en no pocas ocasi
	ones con graves consecuencias personales,&nbsp; con los poderes fácticos.<
	/p><p>En el caso de Paca, estamos ante una vida secuestrada por el Patrona
	to de Protección a la Mujer que hoy vuelve a salir a la luz en los medios 
	de comunicación, pero también llena por aquellas cosas que verdaderamente 
	importan: sus compañeras y compañeros de viaje, su pasión por el baile, su
	s hijos, sus amigas y amigos, su familia. De niña le apodaron ‘la brava’&n
	bsp; por su forma de enfrentase a la vida, por su empeño en pelear contra 
	las injusticias manifiestas. Con 76 años aún tiene mucho que hacer&nbsp; p
	ara que el mundo sea un poco más habitable.</p><p><em>Paca Blanco, la Brav
	a </em>es una crónica de una parte de la historia de este rincón del mundo
	 como nunca se ha contado. La historia de las personas que defienden el te
	rritorio, pero no porque sea suyo, sino porque es nuestro, de todos los ha
	bitantes del planeta.</p><p>Quienes lean este libro se van a reír a carcaj
	adas, van a llorar en algún momento, van a aprender muchas cosas sobre nue
	stra historia más reciente, y lo van a hacer de la mano de una mujer espec
	tacular. Una mujer que ha hecho de la alegría un ejercicio de resistencia 
	feroz.</p><p>La historia de Paca Blanco, la Brava, termina como empezó. Un
	 desahucio, una caravana y una lucha inacabable.</p><p><strong>Presentació
	n del libro "Paca Blanco, la brava" (Libros en Acción) y charla "Alargar l
	as nucleares, no gracias", a cargo de la autora Paca Blanco, Marina Gros d
	e Ecologistas en Acción-Huesca y Nacho Escartín de Ecologistas en Acción-Z
	aragoza, el martes 28 de abril, a partir de las 19.00 horas en La Pantera 
	Rossa de Zaragoza (San Vicente de Paúl 28, local).</strong></p>
BEGIN:VALARM
ACTION:DISPLAY
DESCRIPTION:Ecologistas en Acción presenta 'Paca Blanco, la Brava'
TRIGGER:-PT1H
END:VALARM
END:VEVENT
END:VCALENDAR
