BEGIN:VCALENDAR
VERSION:2.0
CALSCALE:GREGORIAN
PRODID:adamgibbons/ics
METHOD:PUBLISH
X-PUBLISHED-TTL:PT1H
BEGIN:VEVENT
UID:1643@zgz.convoca.la
SUMMARY:Cacerolada por Palestina
DTSTAMP:20260421T012121Z
DTSTART:20260427T180000Z
DTEND:20260427T181500Z
URL:https://zgz.convoca.la/event/cacerolada-por-palestina-43
LOCATION:Plaza de la Madalena - Plaza de la Madalena\, Zaragoza
STATUS:CONFIRMED
CATEGORIES:
BEGIN:VALARM
ACTION:DISPLAY
DESCRIPTION:Cacerolada por Palestina
TRIGGER:-PT1H
END:VALARM
END:VEVENT
END:VCALENDAR
